BEGIN:VCALENDAR
VERSION:2.0
PRODID:-//Librairie Ludobulles - ECPv6.15.20//NONSGML v1.0//EN
CALSCALE:GREGORIAN
METHOD:PUBLISH
X-WR-CALNAME:Librairie Ludobulles
X-ORIGINAL-URL:https://ludobulles.com
X-WR-CALDESC:Évènements pour Librairie Ludobulles
REFRESH-INTERVAL;VALUE=DURATION:PT1H
X-Robots-Tag:noindex
X-PUBLISHED-TTL:PT1H
BEGIN:VTIMEZONE
TZID:Europe/Helsinki
BEGIN:DAYLIGHT
TZOFFSETFROM:+0200
TZOFFSETTO:+0300
TZNAME:EEST
DTSTART:20240331T010000
END:DAYLIGHT
BEGIN:STANDARD
TZOFFSETFROM:+0300
TZOFFSETTO:+0200
TZNAME:EET
DTSTART:20241027T010000
END:STANDARD
BEGIN:DAYLIGHT
TZOFFSETFROM:+0200
TZOFFSETTO:+0300
TZNAME:EEST
DTSTART:20250330T010000
END:DAYLIGHT
BEGIN:STANDARD
TZOFFSETFROM:+0300
TZOFFSETTO:+0200
TZNAME:EET
DTSTART:20251026T010000
END:STANDARD
BEGIN:DAYLIGHT
TZOFFSETFROM:+0200
TZOFFSETTO:+0300
TZNAME:EEST
DTSTART:20260329T010000
END:DAYLIGHT
BEGIN:STANDARD
TZOFFSETFROM:+0300
TZOFFSETTO:+0200
TZNAME:EET
DTSTART:20261025T010000
END:STANDARD
END:VTIMEZONE
BEGIN:VEVENT
DTSTART;TZID=Europe/Helsinki:20251115T143000
DTEND;TZID=Europe/Helsinki:20251115T160000
DTSTAMP:20260419T151729
CREATED:20251103T210445Z
LAST-MODIFIED:20251107T203722Z
UID:8225-1763217000-1763222400@ludobulles.com
SUMMARY:LudoKids : Après-midi jeux pour les 4-8 ans
DESCRIPTION:Vos enfants ont entre 4 et 8 ans ? Votre librairie Ludobulles organise un après-midi ludique où ils pourront s’amuser tout en s’initiant à de nouveaux jeux de société ! À cette occasion\, nous sortirons des jeux variés (plateau\, cartes\, coopératif ou non…) et adaptés à leurs âges. En moyenne\, pendant cette session\, ils auront ainsi la chance de découvrir 2 jeux. \nLes places étant limitées à 8 enfants\, nous vous demandons de vous inscrire (en remplissant le formulaire ci-dessous). \nCette première session aura lieu le samedi 15 novembre de 14h30 à 16h00 dans la librairie au 6 rue Mathé 31800 St-Gaudens. \nTarif : 3 euros par enfant (un sirop offert pendant la session). \n\n← Retour Merci pour votre réponse. ✨\n\n\n					\n						\n							\n							\n						\n						\n						\n						\n						\n							\n								\n									\n										\n										\n									\n									\n										\n										\n									\n								\n							\n						\n						\n							\n								\n									\n									\n										\n									\n									\n									\n								\n							\n						\n					\n				\n\n\n\nNom(obligatoire)\n\n \n			\n				\n					\n						\n						\n						\n					\n				\n				\n			 \n	\n\n\nE-mail(obligatoire)\n\n \n			\n				\n					\n						\n						\n						\n					\n				\n				\n			 \n	\n\n\nTéléphone\n\n \n			\n				\n					\n						\n						\n						\n					\n				\n				\n			 \n	\n\n\nPrénom(s) et âge(s) de votre/vos enfant(s)(obligatoire)\n\n \n			\n				\n					\n						\n						\n						\n					\n				\n				\n			\n	\n	\n\n				\n					\n				\n						Envoyer
URL:https://ludobulles.com/event/apres-midi-jeux-pour-les-4-8-ans/
LOCATION:Ludobulles\, 6 rue Mathé\, St-Gaudens\, 31800
CATEGORIES:Jeux
ORGANIZER;CN="Ludobulles":MAILTO:librairie@ludobulles.com
END:VEVENT
BEGIN:VEVENT
DTSTART;VALUE=DATE:20251119
DTEND;VALUE=DATE:20251210
DTSTAMP:20260419T151729
CREATED:20251120T125015Z
LAST-MODIFIED:20251120T125113Z
UID:8240-1763510400-1765324799@ludobulles.com
SUMMARY:[Jeu Concours] Ludobulles partenaire du Grand Jeu de Noël avec La Dépêche !
DESCRIPTION:Ludobulles est ravi de vous annoncer son partenariat pour le Grand Jeu de Noël de La Dépêche du Midi !\n\n\n\nDu 19 novembre au 09 décembre\, venez tenter votre chance pour tenter de gagner un séjour en Grèce pour deux personnes\, ainsi que plus de 40 000 € de bons d’achat ! \n\n\n\nRDV en boutique pour obtenir vos tickets !
URL:https://ludobulles.com/event/jeu-concours-ludobulles-partenaire-du-grand-jeu-de-noel-avec-la-depeche/
LOCATION:Ludobulles\, 6 rue Mathé\, St-Gaudens\, 31800
ATTACH;FMTTYPE=image/png:https://ludobulles.com/wp-content/uploads/2025/11/jeudenoel.png
ORGANIZER;CN="Ludobulles":MAILTO:librairie@ludobulles.com
END:VEVENT
END:VCALENDAR