BEGIN:VCALENDAR
VERSION:2.0
PRODID:-//Librairie Ludobulles - ECPv6.15.20//NONSGML v1.0//EN
CALSCALE:GREGORIAN
METHOD:PUBLISH
X-ORIGINAL-URL:https://ludobulles.com
X-WR-CALDESC:Évènements pour Librairie Ludobulles
REFRESH-INTERVAL;VALUE=DURATION:PT1H
X-Robots-Tag:noindex
X-PUBLISHED-TTL:PT1H
BEGIN:VTIMEZONE
TZID:Europe/Helsinki
BEGIN:DAYLIGHT
TZOFFSETFROM:+0200
TZOFFSETTO:+0300
TZNAME:EEST
DTSTART:20240331T010000
END:DAYLIGHT
BEGIN:STANDARD
TZOFFSETFROM:+0300
TZOFFSETTO:+0200
TZNAME:EET
DTSTART:20241027T010000
END:STANDARD
BEGIN:DAYLIGHT
TZOFFSETFROM:+0200
TZOFFSETTO:+0300
TZNAME:EEST
DTSTART:20250330T010000
END:DAYLIGHT
BEGIN:STANDARD
TZOFFSETFROM:+0300
TZOFFSETTO:+0200
TZNAME:EET
DTSTART:20251026T010000
END:STANDARD
BEGIN:DAYLIGHT
TZOFFSETFROM:+0200
TZOFFSETTO:+0300
TZNAME:EEST
DTSTART:20260329T010000
END:DAYLIGHT
BEGIN:STANDARD
TZOFFSETFROM:+0300
TZOFFSETTO:+0200
TZNAME:EET
DTSTART:20261025T010000
END:STANDARD
END:VTIMEZONE
BEGIN:VEVENT
DTSTART;VALUE=DATE:20251018
DTEND;VALUE=DATE:20251101
DTSTAMP:20260419T165211
CREATED:20251019T130223Z
LAST-MODIFIED:20251019T130432Z
UID:8188-1760745600-1761955199@ludobulles.com
SUMMARY:Jeu concours du 18 au 31 octobre : 3 cartes cadeaux à gagner :)
DESCRIPTION:Pour fêter l’ouverture de votre librairie\, tentez de gagner une carte cadeau d’une valeur de 30 € (trois cartes cadeaux sont mises en jeu). Pour participer\, il vous suffit de respecter les quelques conditions ci-dessous :1. Suivez Ludobulles sur instagram et/ou facebook2. Aimez un post publié sur instagram et/ou facebook entre le 18 et le 31 octobre. 3. Invitez un(e) ami(e) à découvrir Ludobulles en commentaire du postUn post liké et commenté = 1 chance (donc la possibilité de multiplier ses chances en likant et commentant tout :)) – une carte gagnante maximum par participant !Tirage au sort le 03 novembre. Les gagnant(e)s seront annoncés le jour même sur les deux pages instagram et facebook. Ils pourront venir chercher leur carte à la librairie. Bonne chance à toutes et tous !
URL:https://ludobulles.com/event/jeux-concours/
LOCATION:Ludobulles\, 6 rue Mathé\, St-Gaudens\, 31800
ATTACH;FMTTYPE=image/jpeg:https://ludobulles.com/wp-content/uploads/2025/10/pexels-pixabay-157879-scaled-e1760878908950.jpg
ORGANIZER;CN="Ludobulles":MAILTO:librairie@ludobulles.com
END:VEVENT
BEGIN:VEVENT
DTSTART;TZID=Europe/Helsinki:20251018T100000
DTEND;TZID=Europe/Helsinki:20251018T120000
DTSTAMP:20260419T165211
CREATED:20251007T115533Z
LAST-MODIFIED:20251007T120245Z
UID:8176-1760781600-1760788800@ludobulles.com
SUMMARY:Ludobulles : la grande ouverture !!! :)
DESCRIPTION:Après des mois de travail dans l’ombre pour monter ce beau projet\, beaucoup de rencontres et de paperasse\, des semaines de travaux et d’aménagement\, le grand jour arrive ENFIN ! \n\nOn vous attend : \nle samedi 18 octobre à partir de 10h00\nau 6 rue Mathé\npour l’ouverture de Ludobulles\, votre nouvelle librairie spécialisée BD\, mangas et jeux de société\n  \nUne belle occasion pour se rencontrer et que vous puissiez découvrir la boutique et toutes les pépites qu’elle recèle.\n\n  \n\nPour partager ce grand moment dans la convivialité\, nous vous accueillerons entre 10h et 12h avec une boisson et des petites viennoiserie (car oui\, Ludobulles\, c’est aussi un petit espace « café » où se poser\, flâner et découvrir nos jeux en démonstration). \n  \nOn espère vous voir nombreuses et nombreux pour ce qui s’annonce être une belle journée ! On a vraiment hâte d’y être ! \n\nPS : soyez attentifs\, on vous prépare aussi un petit jeu concours pour fêter l’ouverture de la librairie !!! \n 
URL:https://ludobulles.com/event/ludobulles-la-grande-ouverture/
LOCATION:Ludobulles\, 6 rue Mathé\, St-Gaudens\, 31800
ORGANIZER;CN="Ludobulles":MAILTO:librairie@ludobulles.com
END:VEVENT
END:VCALENDAR